BEGIN:VCALENDAR
VERSION:2.0
PRODID:-//Lollypop Farm - ECPv6.15.20//NONSGML v1.0//EN
CALSCALE:GREGORIAN
METHOD:PUBLISH
X-WR-CALNAME:Lollypop Farm
X-ORIGINAL-URL:https://www.lollypop.org
X-WR-CALDESC:Events for Lollypop Farm
REFRESH-INTERVAL;VALUE=DURATION:PT1H
X-Robots-Tag:noindex
X-PUBLISHED-TTL:PT1H
BEGIN:VTIMEZONE
TZID:America/New_York
BEGIN:DAYLIGHT
TZOFFSETFROM:-0500
TZOFFSETTO:-0400
TZNAME:EDT
DTSTART:20240310T070000
END:DAYLIGHT
BEGIN:STANDARD
TZOFFSETFROM:-0400
TZOFFSETTO:-0500
TZNAME:EST
DTSTART:20241103T060000
END:STANDARD
BEGIN:DAYLIGHT
TZOFFSETFROM:-0500
TZOFFSETTO:-0400
TZNAME:EDT
DTSTART:20250309T070000
END:DAYLIGHT
BEGIN:STANDARD
TZOFFSETFROM:-0400
TZOFFSETTO:-0500
TZNAME:EST
DTSTART:20251102T060000
END:STANDARD
BEGIN:DAYLIGHT
TZOFFSETFROM:-0500
TZOFFSETTO:-0400
TZNAME:EDT
DTSTART:20260308T070000
END:DAYLIGHT
BEGIN:STANDARD
TZOFFSETFROM:-0400
TZOFFSETTO:-0500
TZNAME:EST
DTSTART:20261101T060000
END:STANDARD
END:VTIMEZONE
BEGIN:VEVENT
DTSTART;TZID=America/New_York:20250501T080000
DTEND;TZID=America/New_York:20250531T170000
DTSTAMP:20260423T004917
CREATED:20250429T123101Z
LAST-MODIFIED:20250429T123355Z
UID:10000725-1746086400-1748710800@www.lollypop.org
SUMMARY:May Is Adopt-A-Horse Month!
DESCRIPTION:May is Adopt-A-Horse-Month!\nWhat better way to celebrate than by adding a new family member to your home? View equine available for adoption \nAdoptable Equine
URL:https://www.lollypop.org/event/may-is-adopt-a-horse-month/
LOCATION:Lollypop Farm
ATTACH;FMTTYPE=image/jpeg:https://www.lollypop.org/wp-content/uploads/2023/06/DSC_0162_1920.jpg
END:VEVENT
END:VCALENDAR