BEGIN:VCALENDAR
VERSION:2.0
PRODID:-//Lollypop Farm - ECPv6.15.20//NONSGML v1.0//EN
CALSCALE:GREGORIAN
METHOD:PUBLISH
X-ORIGINAL-URL:https://www.lollypop.org
X-WR-CALDESC:Events for Lollypop Farm
REFRESH-INTERVAL;VALUE=DURATION:PT1H
X-Robots-Tag:noindex
X-PUBLISHED-TTL:PT1H
BEGIN:VTIMEZONE
TZID:America/New_York
BEGIN:DAYLIGHT
TZOFFSETFROM:-0500
TZOFFSETTO:-0400
TZNAME:EDT
DTSTART:20250309T070000
END:DAYLIGHT
BEGIN:STANDARD
TZOFFSETFROM:-0400
TZOFFSETTO:-0500
TZNAME:EST
DTSTART:20251102T060000
END:STANDARD
BEGIN:DAYLIGHT
TZOFFSETFROM:-0500
TZOFFSETTO:-0400
TZNAME:EDT
DTSTART:20260308T070000
END:DAYLIGHT
BEGIN:STANDARD
TZOFFSETFROM:-0400
TZOFFSETTO:-0500
TZNAME:EST
DTSTART:20261101T060000
END:STANDARD
BEGIN:DAYLIGHT
TZOFFSETFROM:-0500
TZOFFSETTO:-0400
TZNAME:EDT
DTSTART:20270314T070000
END:DAYLIGHT
BEGIN:STANDARD
TZOFFSETFROM:-0400
TZOFFSETTO:-0500
TZNAME:EST
DTSTART:20271107T060000
END:STANDARD
END:VTIMEZONE
BEGIN:VEVENT
DTSTART;TZID=America/New_York:20260330T090000
DTEND;TZID=America/New_York:20260403T160000
DTSTAMP:20260419T132929
CREATED:20260122T170728Z
LAST-MODIFIED:20260309T135939Z
UID:10000816-1774861200-1775232000@www.lollypop.org
SUMMARY:Spring Break Camp
DESCRIPTION:March 30 – April 3\nLollypop Farm Camp is the ultimate adventure for any child who loves animals! Sign up today and give your camper the opportunity to explore and turn their passion for pets into an unforgettable experience.  \nRegister Now
URL:https://www.lollypop.org/event/break-camp/
LOCATION:Lollypop Farm
ATTACH;FMTTYPE=image/jpeg:https://www.lollypop.org/wp-content/uploads/2024/08/Tiny-Vet-Clinic-19.jpg
END:VEVENT
END:VCALENDAR