BEGIN:VCALENDAR
VERSION:2.0
PRODID:-//Lollypop Farm - ECPv6.15.20//NONSGML v1.0//EN
CALSCALE:GREGORIAN
METHOD:PUBLISH
X-ORIGINAL-URL:https://www.lollypop.org
X-WR-CALDESC:Events for Lollypop Farm
REFRESH-INTERVAL;VALUE=DURATION:PT1H
X-Robots-Tag:noindex
X-PUBLISHED-TTL:PT1H
BEGIN:VTIMEZONE
TZID:America/New_York
BEGIN:DAYLIGHT
TZOFFSETFROM:-0500
TZOFFSETTO:-0400
TZNAME:EDT
DTSTART:20240310T070000
END:DAYLIGHT
BEGIN:STANDARD
TZOFFSETFROM:-0400
TZOFFSETTO:-0500
TZNAME:EST
DTSTART:20241103T060000
END:STANDARD
BEGIN:DAYLIGHT
TZOFFSETFROM:-0500
TZOFFSETTO:-0400
TZNAME:EDT
DTSTART:20250309T070000
END:DAYLIGHT
BEGIN:STANDARD
TZOFFSETFROM:-0400
TZOFFSETTO:-0500
TZNAME:EST
DTSTART:20251102T060000
END:STANDARD
BEGIN:DAYLIGHT
TZOFFSETFROM:-0500
TZOFFSETTO:-0400
TZNAME:EDT
DTSTART:20260308T070000
END:DAYLIGHT
BEGIN:STANDARD
TZOFFSETFROM:-0400
TZOFFSETTO:-0500
TZNAME:EST
DTSTART:20261101T060000
END:STANDARD
END:VTIMEZONE
BEGIN:VEVENT
DTSTART;VALUE=DATE:20250909
DTEND;VALUE=DATE:20250910
DTSTAMP:20260425T111938
CREATED:20250714T125352Z
LAST-MODIFIED:20250819T134339Z
UID:10000759-1757376000-1757462399@www.lollypop.org
SUMMARY:The Lollypop Farm Professionals Present: Pars for Pets Charity Classic
DESCRIPTION:Sponsorships and golfer registrations available now! Join The Lollypop Farm Professionals for a day of golf\, fun\, and networking to benefit the animals and programs at Lollypop Farm. Held at The Links at Greystone\, one of our area’s premier golf courses\, save the lives of animals while you enjoy 18 holes of golf with friends and colleagues. \nRegister Here.
URL:https://www.lollypop.org/event/parsforpets/
LOCATION:The Links at Greystone\, 1400 Atlantic Ave.\, Walworth\, NY\, 14568\, United States
ATTACH;FMTTYPE=image/jpeg:https://www.lollypop.org/wp-content/uploads/2025/07/links-at-greystone.jpg
END:VEVENT
END:VCALENDAR