BEGIN:VCALENDAR
VERSION:2.0
PRODID:-//Lollypop Farm - ECPv6.15.20//NONSGML v1.0//EN
CALSCALE:GREGORIAN
METHOD:PUBLISH
X-ORIGINAL-URL:https://www.lollypop.org
X-WR-CALDESC:Events for Lollypop Farm
REFRESH-INTERVAL;VALUE=DURATION:PT1H
X-Robots-Tag:noindex
X-PUBLISHED-TTL:PT1H
BEGIN:VTIMEZONE
TZID:America/New_York
BEGIN:DAYLIGHT
TZOFFSETFROM:-0500
TZOFFSETTO:-0400
TZNAME:EDT
DTSTART:20250309T070000
END:DAYLIGHT
BEGIN:STANDARD
TZOFFSETFROM:-0400
TZOFFSETTO:-0500
TZNAME:EST
DTSTART:20251102T060000
END:STANDARD
BEGIN:DAYLIGHT
TZOFFSETFROM:-0500
TZOFFSETTO:-0400
TZNAME:EDT
DTSTART:20260308T070000
END:DAYLIGHT
BEGIN:STANDARD
TZOFFSETFROM:-0400
TZOFFSETTO:-0500
TZNAME:EST
DTSTART:20261101T060000
END:STANDARD
BEGIN:DAYLIGHT
TZOFFSETFROM:-0500
TZOFFSETTO:-0400
TZNAME:EDT
DTSTART:20270314T070000
END:DAYLIGHT
BEGIN:STANDARD
TZOFFSETFROM:-0400
TZOFFSETTO:-0500
TZNAME:EST
DTSTART:20271107T060000
END:STANDARD
END:VTIMEZONE
BEGIN:VEVENT
DTSTART;TZID=America/New_York:20260401T103000
DTEND;TZID=America/New_York:20260401T113000
DTSTAMP:20260420T062535
CREATED:20260309T144748Z
LAST-MODIFIED:20260309T144748Z
UID:10000825-1775039400-1775043000@www.lollypop.org
SUMMARY:Animal Tales Storytime at Tilly's Place
DESCRIPTION:Gather around\, little animal lovers! We’ll be reading our favorite tales all about our furry\, feathered\, and scaled friends. Snuggle up and listen to stories that celebrate kindness\, compassion\, and the amazing bond between people and animals. And meet a therapy dog!  \nRegister Today
URL:https://www.lollypop.org/event/animal-tales-storytime-at-tillys-place/
LOCATION:Tilly’s Place
ATTACH;FMTTYPE=image/png:https://www.lollypop.org/wp-content/uploads/2025/10/Tilly.png
END:VEVENT
END:VCALENDAR